BEGIN:VCALENDAR
VERSION:2.0
PRODID:-//Sabiduría Inherente - ECPv6.15.20//NONSGML v1.0//EN
CALSCALE:GREGORIAN
METHOD:PUBLISH
X-WR-CALNAME:Sabiduría Inherente
X-ORIGINAL-URL:https://sabiduriainherente.es
X-WR-CALDESC:Eventos para Sabiduría Inherente
REFRESH-INTERVAL;VALUE=DURATION:PT1H
X-Robots-Tag:noindex
X-PUBLISHED-TTL:PT1H
BEGIN:VTIMEZONE
TZID:Europe/Paris
BEGIN:DAYLIGHT
TZOFFSETFROM:+0100
TZOFFSETTO:+0200
TZNAME:CEST
DTSTART:20250330T010000
END:DAYLIGHT
BEGIN:STANDARD
TZOFFSETFROM:+0200
TZOFFSETTO:+0100
TZNAME:CET
DTSTART:20251026T010000
END:STANDARD
BEGIN:DAYLIGHT
TZOFFSETFROM:+0100
TZOFFSETTO:+0200
TZNAME:CEST
DTSTART:20260329T010000
END:DAYLIGHT
BEGIN:STANDARD
TZOFFSETFROM:+0200
TZOFFSETTO:+0100
TZNAME:CET
DTSTART:20261025T010000
END:STANDARD
BEGIN:DAYLIGHT
TZOFFSETFROM:+0100
TZOFFSETTO:+0200
TZNAME:CEST
DTSTART:20270328T010000
END:DAYLIGHT
BEGIN:STANDARD
TZOFFSETFROM:+0200
TZOFFSETTO:+0100
TZNAME:CET
DTSTART:20271031T010000
END:STANDARD
END:VTIMEZONE
BEGIN:VTIMEZONE
TZID:Europe/Madrid
BEGIN:DAYLIGHT
TZOFFSETFROM:+0100
TZOFFSETTO:+0200
TZNAME:CEST
DTSTART:20250330T010000
END:DAYLIGHT
BEGIN:STANDARD
TZOFFSETFROM:+0200
TZOFFSETTO:+0100
TZNAME:CET
DTSTART:20251026T010000
END:STANDARD
BEGIN:DAYLIGHT
TZOFFSETFROM:+0100
TZOFFSETTO:+0200
TZNAME:CEST
DTSTART:20260329T010000
END:DAYLIGHT
BEGIN:STANDARD
TZOFFSETFROM:+0200
TZOFFSETTO:+0100
TZNAME:CET
DTSTART:20261025T010000
END:STANDARD
BEGIN:DAYLIGHT
TZOFFSETFROM:+0100
TZOFFSETTO:+0200
TZNAME:CEST
DTSTART:20270328T010000
END:DAYLIGHT
BEGIN:STANDARD
TZOFFSETFROM:+0200
TZOFFSETTO:+0100
TZNAME:CET
DTSTART:20271031T010000
END:STANDARD
END:VTIMEZONE
BEGIN:VEVENT
DTSTART;TZID=Europe/Paris:20260227T160000
DTEND;TZID=Europe/Paris:20260301T173000
DTSTAMP:20260421T170153
CREATED:20250219T183555Z
LAST-MODIFIED:20250714T181935Z
UID:1315-1772208000-1772386200@sabiduriainherente.es
SUMMARY:EL PROPÓSITO DE MI VIDA (2025/26)- Ocupando la silla vacía . Sem 5/6
DESCRIPTION:“El símbolo de la silla vacía implica que la enseñanza es perenne. Siempre está allí. En cada tiempo y lugar alguien tomará el sitio y dará voz a la verdad tan clara y honestamente como pueda.” Mike Boxhall \nEs fácil que en nuestros tiempos -hijos de nuestra cultura- sintamos que no hemos sido capaces de desarrollarnos plenamente si no hemos logrado el éxito social o económico. Incluso podemos llegar a sentir que “no somos nadie”\, y que no tenemos un lugar en nuestra sociedad. Es fácil que la frustración y el sin sentido acompañen a todo esto.  (leer más) \n\nSeminario 1: 26-28 de Septiembre (2025)\nCreando el recipiente para que la esencia pueda encarnar\nSeminario 2: 24-26 de Octubre (2025)\nExpandiendo la conexión con la esencia\nSeminario 3: 12-14 de Diciembre (2025)\nEncarnando la esencia en el mundo\nSeminario 4: 16-18 de Enero (2026)\nExplorando la silla vacía–I\nSeminario 5: 27 de Febrero-1 de Marzo (2026)\nExplorando la silla vacía–II\nSeminario 6: 10-12 de Abril (2026)\nExplorando la silla vacía–III
URL:https://sabiduriainherente.es/event/el-proposito-de-mi-vida-ocupando-la-silla-vacia-sem-5-6-2/
LOCATION:ESPACIO SABIDURÍA INHERENTE\, Av. de la Reina Sofía\, 27\, local 1\, Leganés\, Madrid\, 28919\, Spain
ATTACH;FMTTYPE=image/jpeg:https://sabiduriainherente.es/wp-content/uploads/2025/02/old-wooden-chair-tropical-garden-near-lake-island-borneo-malaysia-close-up-scaled.jpg
ORGANIZER;CN="Elixabete Zubizarreta":MAILTO:contacto@espacioyeonriji.com
END:VEVENT
BEGIN:VEVENT
DTSTART;TZID=Europe/Paris:20260313T090000
DTEND;TZID=Europe/Paris:20260315T140000
DTSTAMP:20260421T170153
CREATED:20250714T180148Z
LAST-MODIFIED:20250714T180148Z
UID:1449-1773392400-1773583200@sabiduriainherente.es
SUMMARY:BCS (5ª ed.2025/26)-Confía en la Marea. Sem. 7 - Vísceras I
DESCRIPTION:FORMACIÓN DE BIODINÁMICA CRANEOSACRAL \nDestinado a cualquier persona que quiera entrar y profundizar en la comprensión y estudio de la salud\, desde la perspectiva de la terapia craneosacral biodinámica. (ver más) \nHabilidades clave para este seminario: \nCapacidad para trabajar con precisión con el pericardio y su conexión con otras estructuras\, especialmente con conexiones entre la base craneal y el diafragma. Orientación a la naturaleza fluida de los órganos y a la fisiología del cuerpo. Profundizar en las habilidades de escucha desde el IRC y la marea media hasta las estructuras corporales. Apreciar el efecto integrador de los puntos de calma en la fisiología de los órganos. Aumentar la capacidad para orientarse a las cavidades del cuerpo como espacios internos. Comprender la naturaleza holística de las vísceras\, los líquidos\, el sistema nervioso y la potencia. Profundizar en las habilidades para diferenciar.
URL:https://sabiduriainherente.es/event/bcs-5a-ed-2025-26-confia-en-la-marea-sem-7-visceras-i/
LOCATION:ESPACIO SABIDURÍA INHERENTE\, Av. de la Reina Sofía\, 27\, local 1\, Leganés\, Madrid\, 28919\, Spain
ATTACH;FMTTYPE=image/jpeg:https://sabiduriainherente.es/wp-content/uploads/2024/01/ola.jpeg
ORGANIZER;CN="Javier Rodriguez Diaz":MAILTO:confiaenlamarea@gmail.com
END:VEVENT
BEGIN:VEVENT
DTSTART;TZID=Europe/Paris:20260320T160000
DTEND;TZID=Europe/Paris:20260322T173000
DTSTAMP:20260421T170153
CREATED:20250714T185332Z
LAST-MODIFIED:20260218T172742Z
UID:1492-1774022400-1774200600@sabiduriainherente.es
SUMMARY:Principios Masculino y Femenino en la Escucha (2/3)
DESCRIPTION:El objetivo de este curso es el de capacitar a los participantes en el desarrollo y entrenamiento de los principios femenino y masculinos que les permitirán llevar a cabo una escucha profunda e integral. La principal herramienta a desarrollar es la propia coherencia y la capacidad de sintonización. Es por ello que a lo largo del curso se explorará tanto el estado y el trabajo interno\, como la escucha y sintonización con el otro. \nEn cada uno de los seminarios se profundizará en un aspecto distinto\, pero manteniendo una clara visión de construcción e integración global con el objetivo de restaurar la unidad y coherencia final\, que nos permitirá esa escucha profunda y auténtica del Ser. \nEs un curso eminentemente práctico y se desarrollará a través de meditación\, de trabajo y escucha corporal en camilla\, de trabajar la comunicación contemplativa\, y del compartir y escucha verbal en el grupo. \n (ver más) \nCONTENIDO DEL CURSO \n\nSeminario 1: PRINCIPIO FEMENINO – Recibir [Espacio]\nSeminario 2: PRINCIPIO MASCULINO – Sintonizar [Estructura]\nSeminario 3: INTEGRAR AMBOS PRINCIPIOS – Resonar [Energía]
URL:https://sabiduriainherente.es/event/principios-masculino-y-femenino-en-la-escucha-2-3/
LOCATION:ESPACIO SABIDURÍA INHERENTE\, Av. de la Reina Sofía\, 27\, local 1\, Leganés\, Madrid\, 28919\, Spain
ATTACH;FMTTYPE=image/png:https://sabiduriainherente.es/wp-content/uploads/2025/07/escucha-PP-Femenino-Masculino2026-instag-acortado.png
ORGANIZER;CN="Elixabete Zubizarreta":MAILTO:contacto@espacioyeonriji.com
END:VEVENT
BEGIN:VEVENT
DTSTART;TZID=Europe/Madrid:20260327T190000
DTEND;TZID=Europe/Madrid:20260329T140000
DTSTAMP:20260421T170153
CREATED:20260218T171135Z
LAST-MODIFIED:20260218T171624Z
UID:1709-1774638000-1774792800@sabiduriainherente.es
SUMMARY:Curso de VISIÓN AURAL-Nivel 1
DESCRIPTION:Curso enfocada a abrir estados de Percepción Sensorial Acrecentada. \nLa dualidad Tonal–Nagual está presente en toda experiencia perceptiva.\nMiramos al tonal\, pero no vemos al nagual del mundo. \nCuando el “yo” se impone como centro absoluto\, la percepción se empobrece y el Nagual queda excluido.\nLa Visión Aural propone lo contrario: ordenar el Tonal para que el Ver sea posible. \nAprender a ver el Aura no es sugestión ni imaginación.\nEs entrenamiento perceptivo\, práctica sostenida y comprensión profunda. \nFormación basada en los fundamentos desarrollados por el\nDr. Cristian Salado durante más de 30 años de enseñanza. \nDirigido a: Terapeutas · Fisioterapeutas · Profesionales de la salud y cualquier persona interesada en la percepción energética aplicada
URL:https://sabiduriainherente.es/event/curso-de-vision-aural/
LOCATION:ESPACIO SABIDURÍA INHERENTE\, Av. de la Reina Sofía\, 27\, local 1\, Leganés\, Madrid\, 28919\, Spain
ATTACH;FMTTYPE=image/png:https://sabiduriainherente.es/wp-content/uploads/2026/02/Captura-de-pantalla-2026-02-18-a-las-18.08.53.png
END:VEVENT
END:VCALENDAR