BEGIN:VCALENDAR
VERSION:2.0
PRODID:-//Sabiduría Inherente - ECPv6.15.20//NONSGML v1.0//EN
CALSCALE:GREGORIAN
METHOD:PUBLISH
X-ORIGINAL-URL:https://sabiduriainherente.es
X-WR-CALDESC:Eventos para Sabiduría Inherente
REFRESH-INTERVAL;VALUE=DURATION:PT1H
X-Robots-Tag:noindex
X-PUBLISHED-TTL:PT1H
BEGIN:VTIMEZONE
TZID:Europe/Paris
BEGIN:DAYLIGHT
TZOFFSETFROM:+0100
TZOFFSETTO:+0200
TZNAME:CEST
DTSTART:20250330T010000
END:DAYLIGHT
BEGIN:STANDARD
TZOFFSETFROM:+0200
TZOFFSETTO:+0100
TZNAME:CET
DTSTART:20251026T010000
END:STANDARD
BEGIN:DAYLIGHT
TZOFFSETFROM:+0100
TZOFFSETTO:+0200
TZNAME:CEST
DTSTART:20260329T010000
END:DAYLIGHT
BEGIN:STANDARD
TZOFFSETFROM:+0200
TZOFFSETTO:+0100
TZNAME:CET
DTSTART:20261025T010000
END:STANDARD
BEGIN:DAYLIGHT
TZOFFSETFROM:+0100
TZOFFSETTO:+0200
TZNAME:CEST
DTSTART:20270328T010000
END:DAYLIGHT
BEGIN:STANDARD
TZOFFSETFROM:+0200
TZOFFSETTO:+0100
TZNAME:CET
DTSTART:20271031T010000
END:STANDARD
END:VTIMEZONE
BEGIN:VEVENT
DTSTART;TZID=Europe/Paris:20260206T160000
DTEND;TZID=Europe/Paris:20260208T173000
DTSTAMP:20260421T183657
CREATED:20250714T185204Z
LAST-MODIFIED:20260218T172809Z
UID:1490-1770393600-1770571800@sabiduriainherente.es
SUMMARY:Principios Masculino y Femenino en la Escucha (1/3)
DESCRIPTION:El objetivo de este curso es el de capacitar a los participantes en el desarrollo y entrenamiento de los principios femenino y masculinos que les permitirán llevar a cabo una escucha profunda e integral. La principal herramienta a desarrollar es la propia coherencia y la capacidad de sintonización. Es por ello que a lo largo del curso se explorará tanto el estado y el trabajo interno\, como la escucha y sintonización con el otro. \nEn cada uno de los seminarios se profundizará en un aspecto distinto\, pero manteniendo una clara visión de construcción e integración global con el objetivo de restaurar la unidad y coherencia final\, que nos permitirá esa escucha profunda y auténtica del Ser. \nEs un curso eminentemente práctico y se desarrollará a través de meditación\, de trabajo y escucha corporal en camilla\, de trabajar la comunicación contemplativa\, y del compartir y escucha verbal en el grupo. \n (ver más) \nCONTENIDO DEL CURSO \n\nSeminario 1: PRINCIPIO FEMENINO – Recibir [Espacio]\nSeminario 2: PRINCIPIO MASCULINO – Sintonizar [Estructura]\nSeminario 3: INTEGRAR AMBOS PRINCIPIOS – Resonar [Energía]
URL:https://sabiduriainherente.es/event/principios-masculino-y-femenino-en-la-escucha-1-3/
LOCATION:ESPACIO SABIDURÍA INHERENTE\, Av. de la Reina Sofía\, 27\, local 1\, Leganés\, Madrid\, 28919\, Spain
ATTACH;FMTTYPE=image/png:https://sabiduriainherente.es/wp-content/uploads/2025/07/escucha-PP-Femenino-Masculino2026-instag-acortado.png
ORGANIZER;CN="Elixabete Zubizarreta":MAILTO:contacto@espacioyeonriji.com
END:VEVENT
BEGIN:VEVENT
DTSTART;TZID=Europe/Paris:20260213T090000
DTEND;TZID=Europe/Paris:20260215T140000
DTSTAMP:20260421T183657
CREATED:20250714T180101Z
LAST-MODIFIED:20250714T180101Z
UID:1451-1770973200-1771164000@sabiduriainherente.es
SUMMARY:BCS (5ª ed.2025/26)-Confía en la Marea. Sem. 6 - La Matriz Nerviosa
DESCRIPTION:FORMACIÓN DE BIODINÁMICA CRANEOSACRAL \nDestinado a cualquier persona que quiera entrar y profundizar en la comprensión y estudio de la salud\, desde la perspectiva de la terapia craneosacral biodinámica. (ver más) \nHabilidades clave para este seminario: \nFamiliarizarse con las expresiones de salud de los tejidos nerviosos. Aprender a reconocer los estados de equilibrio y trabajar con diferentes partes del cerebro\, incluido el ojo. Aprender a identificar la activación del tronco encefálico y cómo atenuar el sistema nervioso. Comenzar a relacionarse con el hipotálamo y la hipófisis y a detectar cambios endocrinos en el cuerpo.
URL:https://sabiduriainherente.es/event/bcs-5a-ed-2025-26-confia-en-la-marea-sem-6-la-matriz-nerviosa/
LOCATION:ESPACIO SABIDURÍA INHERENTE\, Av. de la Reina Sofía\, 27\, local 1\, Leganés\, Madrid\, 28919\, Spain
ATTACH;FMTTYPE=image/jpeg:https://sabiduriainherente.es/wp-content/uploads/2024/01/ola.jpeg
ORGANIZER;CN="Javier Rodriguez Diaz":MAILTO:confiaenlamarea@gmail.com
END:VEVENT
BEGIN:VEVENT
DTSTART;TZID=Europe/Paris:20260221T093000
DTEND;TZID=Europe/Paris:20260222T140000
DTSTAMP:20260421T183657
CREATED:20250714T181337Z
LAST-MODIFIED:20250714T181337Z
UID:1466-1771666200-1771768800@sabiduriainherente.es
SUMMARY:Reunión de Gotitas-Prácticas Biodinámica
DESCRIPTION:Encuentro Biodinámico abierto a todos los practicantes de biodinámica. (Tienen prioridad en la inscripción los alumnos de la escuela) \nPráctica en camilla y espacio para comentar las experiencias y dudas. \nEn cada encuentro se fija una temática.
URL:https://sabiduriainherente.es/event/reunion-de-gotitas-practicas-biodinamica-3/
LOCATION:ESPACIO SABIDURÍA INHERENTE\, Av. de la Reina Sofía\, 27\, local 1\, Leganés\, Madrid\, 28919\, Spain
ATTACH;FMTTYPE=image/jpeg:https://sabiduriainherente.es/wp-content/uploads/2021/11/ecosystem-water-drop-nature-background-for-earth-day-campaign-scaled.jpg
ORGANIZER;CN="Javier Rodriguez Diaz":MAILTO:confiaenlamarea@gmail.com
END:VEVENT
BEGIN:VEVENT
DTSTART;TZID=Europe/Paris:20260227T160000
DTEND;TZID=Europe/Paris:20260301T173000
DTSTAMP:20260421T183657
CREATED:20250219T183555Z
LAST-MODIFIED:20250714T181935Z
UID:1315-1772208000-1772386200@sabiduriainherente.es
SUMMARY:EL PROPÓSITO DE MI VIDA (2025/26)- Ocupando la silla vacía . Sem 5/6
DESCRIPTION:“El símbolo de la silla vacía implica que la enseñanza es perenne. Siempre está allí. En cada tiempo y lugar alguien tomará el sitio y dará voz a la verdad tan clara y honestamente como pueda.” Mike Boxhall \nEs fácil que en nuestros tiempos -hijos de nuestra cultura- sintamos que no hemos sido capaces de desarrollarnos plenamente si no hemos logrado el éxito social o económico. Incluso podemos llegar a sentir que “no somos nadie”\, y que no tenemos un lugar en nuestra sociedad. Es fácil que la frustración y el sin sentido acompañen a todo esto.  (leer más) \n\nSeminario 1: 26-28 de Septiembre (2025)\nCreando el recipiente para que la esencia pueda encarnar\nSeminario 2: 24-26 de Octubre (2025)\nExpandiendo la conexión con la esencia\nSeminario 3: 12-14 de Diciembre (2025)\nEncarnando la esencia en el mundo\nSeminario 4: 16-18 de Enero (2026)\nExplorando la silla vacía–I\nSeminario 5: 27 de Febrero-1 de Marzo (2026)\nExplorando la silla vacía–II\nSeminario 6: 10-12 de Abril (2026)\nExplorando la silla vacía–III
URL:https://sabiduriainherente.es/event/el-proposito-de-mi-vida-ocupando-la-silla-vacia-sem-5-6-2/
LOCATION:ESPACIO SABIDURÍA INHERENTE\, Av. de la Reina Sofía\, 27\, local 1\, Leganés\, Madrid\, 28919\, Spain
ATTACH;FMTTYPE=image/jpeg:https://sabiduriainherente.es/wp-content/uploads/2025/02/old-wooden-chair-tropical-garden-near-lake-island-borneo-malaysia-close-up-scaled.jpg
ORGANIZER;CN="Elixabete Zubizarreta":MAILTO:contacto@espacioyeonriji.com
END:VEVENT
END:VCALENDAR