BEGIN:VCALENDAR
VERSION:2.0
PRODID:-//Sabiduría Inherente - ECPv6.15.20//NONSGML v1.0//EN
CALSCALE:GREGORIAN
METHOD:PUBLISH
X-ORIGINAL-URL:https://sabiduriainherente.es
X-WR-CALDESC:Eventos para Sabiduría Inherente
REFRESH-INTERVAL;VALUE=DURATION:PT1H
X-Robots-Tag:noindex
X-PUBLISHED-TTL:PT1H
BEGIN:VTIMEZONE
TZID:Europe/Paris
BEGIN:DAYLIGHT
TZOFFSETFROM:+0100
TZOFFSETTO:+0200
TZNAME:CEST
DTSTART:20250330T010000
END:DAYLIGHT
BEGIN:STANDARD
TZOFFSETFROM:+0200
TZOFFSETTO:+0100
TZNAME:CET
DTSTART:20251026T010000
END:STANDARD
BEGIN:DAYLIGHT
TZOFFSETFROM:+0100
TZOFFSETTO:+0200
TZNAME:CEST
DTSTART:20260329T010000
END:DAYLIGHT
BEGIN:STANDARD
TZOFFSETFROM:+0200
TZOFFSETTO:+0100
TZNAME:CET
DTSTART:20261025T010000
END:STANDARD
BEGIN:DAYLIGHT
TZOFFSETFROM:+0100
TZOFFSETTO:+0200
TZNAME:CEST
DTSTART:20270328T010000
END:DAYLIGHT
BEGIN:STANDARD
TZOFFSETFROM:+0200
TZOFFSETTO:+0100
TZNAME:CET
DTSTART:20271031T010000
END:STANDARD
END:VTIMEZONE
BEGIN:VTIMEZONE
TZID:Europe/Madrid
BEGIN:DAYLIGHT
TZOFFSETFROM:+0100
TZOFFSETTO:+0200
TZNAME:CEST
DTSTART:20250330T010000
END:DAYLIGHT
BEGIN:STANDARD
TZOFFSETFROM:+0200
TZOFFSETTO:+0100
TZNAME:CET
DTSTART:20251026T010000
END:STANDARD
BEGIN:DAYLIGHT
TZOFFSETFROM:+0100
TZOFFSETTO:+0200
TZNAME:CEST
DTSTART:20260329T010000
END:DAYLIGHT
BEGIN:STANDARD
TZOFFSETFROM:+0200
TZOFFSETTO:+0100
TZNAME:CET
DTSTART:20261025T010000
END:STANDARD
BEGIN:DAYLIGHT
TZOFFSETFROM:+0100
TZOFFSETTO:+0200
TZNAME:CEST
DTSTART:20270328T010000
END:DAYLIGHT
BEGIN:STANDARD
TZOFFSETFROM:+0200
TZOFFSETTO:+0100
TZNAME:CET
DTSTART:20271031T010000
END:STANDARD
END:VTIMEZONE
BEGIN:VEVENT
DTSTART;TZID=Europe/Paris:20260410T160000
DTEND;TZID=Europe/Paris:20260412T173000
DTSTAMP:20260421T201803
CREATED:20250219T182734Z
LAST-MODIFIED:20250714T181916Z
UID:1311-1775836800-1776015000@sabiduriainherente.es
SUMMARY:EL PROPÓSITO DE MI VIDA (2025/26)- Ocupando la silla vacía . Sem 6/6
DESCRIPTION:“El símbolo de la silla vacía implica que la enseñanza es perenne. Siempre está allí. En cada tiempo y lugar alguien tomará el sitio y dará voz a la verdad tan clara y honestamente como pueda.” Mike Boxhall \nEs fácil que en nuestros tiempos -hijos de nuestra cultura- sintamos que no hemos sido capaces de desarrollarnos plenamente si no hemos logrado el éxito social o económico. Incluso podemos llegar a sentir que “no somos nadie”\, y que no tenemos un lugar en nuestra sociedad. Es fácil que la frustración y el sin sentido acompañen a todo esto.  (leer más) \n\nSeminario 1: 26-28 de Septiembre (2025)\nCreando el recipiente para que la esencia pueda encarnar\nSeminario 2: 24-26 de Octubre (2025)\nExpandiendo la conexión con la esencia\nSeminario 3: 12-14 de Diciembre (2025)\nEncarnando la esencia en el mundo\nSeminario 4: 16-18 de Enero (2026)\nExplorando la silla vacía–I\nSeminario 5: 27 de Febrero-1 de Marzo (2026)\nExplorando la silla vacía–II\nSeminario 6: 10-12 de Abril (2026)\nExplorando la silla vacía–III
URL:https://sabiduriainherente.es/event/el-proposito-de-mi-vida-ocupando-la-silla-vacia-sem-5-6/
LOCATION:ESPACIO SABIDURÍA INHERENTE\, Av. de la Reina Sofía\, 27\, local 1\, Leganés\, Madrid\, 28919\, Spain
ATTACH;FMTTYPE=image/jpeg:https://sabiduriainherente.es/wp-content/uploads/2025/02/old-wooden-chair-tropical-garden-near-lake-island-borneo-malaysia-close-up-scaled.jpg
ORGANIZER;CN="Elixabete Zubizarreta":MAILTO:contacto@espacioyeonriji.com
END:VEVENT
BEGIN:VEVENT
DTSTART;TZID=Europe/Paris:20260417T090000
DTEND;TZID=Europe/Paris:20260419T140000
DTSTAMP:20260421T201803
CREATED:20250714T180231Z
LAST-MODIFIED:20250714T180231Z
UID:1448-1776416400-1776607200@sabiduriainherente.es
SUMMARY:BCS (5ª ed.2025/26)-Confía en la Marea. Sem. 8 - Vísceras II
DESCRIPTION:FORMACIÓN DE BIODINÁMICA CRANEOSACRAL \nDestinado a cualquier persona que quiera entrar y profundizar en la comprensión y estudio de la salud\, desde la perspectiva de la terapia craneosacral biodinámica. (ver más) \nHabilidades clave para este seminario: \nCapacidad para trabajar con precisión con el pericardio y su conexión con otras estructuras\, especialmente con conexiones entre la base craneal y el diafragma. Orientación a la naturaleza fluida de los órganos y a la fisiología del cuerpo. Profundizar en las habilidades de escucha desde el IRC y la marea media hasta las estructuras corporales. Apreciar el efecto integrador de los puntos de calma en la fisiología de los órganos. Aumentar la capacidad para orientarse a las cavidades del cuerpo como espacios internos. Comprender la naturaleza holística de las vísceras\, los líquidos\, el sistema nervioso y la potencia. Profundizar en las habilidades para diferenciar.
URL:https://sabiduriainherente.es/event/bcs-5a-ed-2025-26-confia-en-la-marea-sem-8-visceras-ii/
LOCATION:ESPACIO SABIDURÍA INHERENTE\, Av. de la Reina Sofía\, 27\, local 1\, Leganés\, Madrid\, 28919\, Spain
ATTACH;FMTTYPE=image/jpeg:https://sabiduriainherente.es/wp-content/uploads/2024/01/ola.jpeg
ORGANIZER;CN="Javier Rodriguez Diaz":MAILTO:confiaenlamarea@gmail.com
END:VEVENT
BEGIN:VEVENT
DTSTART;TZID=Europe/Madrid:20260424T110000
DTEND;TZID=Europe/Madrid:20260426T193000
DTSTAMP:20260421T201803
CREATED:20250714T190009Z
LAST-MODIFIED:20260218T173257Z
UID:1497-1777028400-1777231800@sabiduriainherente.es
SUMMARY:Seminario de Exploración Energética del Nacimiento
DESCRIPTION:Cuando nuestro tiempo y nuestro ritmo SON en el nacimiento\, energéticamente hay una encarnación de la Sabiduría. \nSi ese tiempo y ese ritmo intrínseco nuestro es respetado en nuestro nacer\, existe una cascada de transmisión energética en nosotros. \nEste seminario está dedicado a la exploración de ello. Permitiendo en primer lugar escuchar y recibir aquella vivencia que fue nuestro nacer\, para en segundo lugar poder explorar y reescribirlo alineándolo con nuestro tiempo\, nuestro ritmo\, nuestra recepción y encarnación de la Sabiduría. \n(ver más) \nCONTENIDO \n\nViernes: Creación del contenedor seguro de exploración\nSábado: Exploración de lo no integrado de nuestro proceso de nacimiento\nDomingo: Exploración del proceso de nacer encarnando nuestro tiempo y nuestro ritmo
URL:https://sabiduriainherente.es/event/seminario-de-exploracion-energetica-del-nacimiento-2/
LOCATION:ESPACIO SABIDURÍA INHERENTE\, Av. de la Reina Sofía\, 27\, local 1\, Leganés\, Madrid\, 28919\, Spain
ATTACH;FMTTYPE=image/jpeg:https://sabiduriainherente.es/wp-content/uploads/2025/02/baby-fetus-womb-scaled.jpg
ORGANIZER;CN="Elixabete Zubizarreta":MAILTO:contacto@espacioyeonriji.com
END:VEVENT
BEGIN:VEVENT
DTSTART;TZID=Europe/Paris:20260508T160000
DTEND;TZID=Europe/Paris:20260510T173000
DTSTAMP:20260421T201803
CREATED:20250714T185442Z
LAST-MODIFIED:20260218T172716Z
UID:1495-1778256000-1778434200@sabiduriainherente.es
SUMMARY:Principios Masculino y Femenino en la Escucha (3/3)
DESCRIPTION:El objetivo de este curso es el de capacitar a los participantes en el desarrollo y entrenamiento de los principios femenino y masculinos que les permitirán llevar a cabo una escucha profunda e integral. La principal herramienta a desarrollar es la propia coherencia y la capacidad de sintonización. Es por ello que a lo largo del curso se explorará tanto el estado y el trabajo interno\, como la escucha y sintonización con el otro. \nEn cada uno de los seminarios se profundizará en un aspecto distinto\, pero manteniendo una clara visión de construcción e integración global con el objetivo de restaurar la unidad y coherencia final\, que nos permitirá esa escucha profunda y auténtica del Ser. \nEs un curso eminentemente práctico y se desarrollará a través de meditación\, de trabajo y escucha corporal en camilla\, de trabajar la comunicación contemplativa\, y del compartir y escucha verbal en el grupo. \n (ver más) \nCONTENIDO DEL CURSO \n\nSeminario 1: PRINCIPIO FEMENINO – Recibir [Espacio]\nSeminario 2: PRINCIPIO MASCULINO – Sintonizar [Estructura]\nSeminario 3: INTEGRAR AMBOS PRINCIPIOS – Resonar [Energía]
URL:https://sabiduriainherente.es/event/principios-masculino-y-femenino-en-la-escucha-3-3/
LOCATION:ESPACIO SABIDURÍA INHERENTE\, Av. de la Reina Sofía\, 27\, local 1\, Leganés\, Madrid\, 28919\, Spain
ATTACH;FMTTYPE=image/png:https://sabiduriainherente.es/wp-content/uploads/2025/07/escucha-PP-Femenino-Masculino2026-instag-acortado.png
ORGANIZER;CN="Elixabete Zubizarreta":MAILTO:contacto@espacioyeonriji.com
END:VEVENT
BEGIN:VEVENT
DTSTART;TZID=Europe/Paris:20260515T090000
DTEND;TZID=Europe/Paris:20260517T140000
DTSTAMP:20260421T201803
CREATED:20250714T180321Z
LAST-MODIFIED:20250714T180321Z
UID:1447-1778835600-1779026400@sabiduriainherente.es
SUMMARY:BCS (5ª ed.2025/26)-Confía en la Marea. Sem. 9 - Nacimiento e Ignición
DESCRIPTION:FORMACIÓN DE BIODINÁMICA CRANEOSACRAL \nDestinado a cualquier persona que quiera entrar y profundizar en la comprensión y estudio de la salud\, desde la perspectiva de la terapia craneosacral biodinámica. (ver más) \nDe qué trata el seminario: \nTrabajar con las dinámicas claves de la base craneal Reconocer cómo estos patrones pueden moldear distintas formas en todo el cuerpo Comprender improntas y las consecuencias de las experiencias tempranas Profundizar en las habilidades de la quietud y plantear elementos transpersonales dentro del modelo biodinámico
URL:https://sabiduriainherente.es/event/bcs-5a-ed-2025-26-confia-en-la-marea-sem-9-nacimiento-e-ignicion/
LOCATION:ESPACIO SABIDURÍA INHERENTE\, Av. de la Reina Sofía\, 27\, local 1\, Leganés\, Madrid\, 28919\, Spain
ATTACH;FMTTYPE=image/jpeg:https://sabiduriainherente.es/wp-content/uploads/2024/01/ola.jpeg
ORGANIZER;CN="Javier Rodriguez Diaz":MAILTO:confiaenlamarea@gmail.com
END:VEVENT
BEGIN:VEVENT
DTSTART;TZID=Europe/Paris:20260522T160000
DTEND;TZID=Europe/Paris:20260524T173000
DTSTAMP:20260421T201803
CREATED:20250714T184231Z
LAST-MODIFIED:20260218T173139Z
UID:1484-1779465600-1779643800@sabiduriainherente.es
SUMMARY:Cultivando una Escucha Integral e Integrada: CONFIAR (1/3)
DESCRIPTION:El objetivo de este curso es el de capacitar a los participantes en el desarrollo de la confianza más allá del saber\, permitiendo así el despliegue del proceso alineado con la Inteligencia y la Salud. \nSe explorará y profundizará en las distintas capas y niveles de lo que significa confiar\, pudiendo soltar la limitación del conocimiento y para abrirse a la Sabiduría. La principal herramienta a desarrollar es la propia consciencia y la alineación con la Inteligencia que permite confiar en el proceso que se está dando y desplegando. \nEn cada uno de los seminarios se profundizará en un aspecto distinto\, pero manteniendo una clara visión de construcción y profundización del proceso de confiar. \nEs un curso eminentemente práctico y se desarrollará a través de meditación\, de trabajo y escucha corporal en camilla\, de trabajar la comunicación contemplativa\, y del compartir y escucha verbal en el grupo. \n (ver más) \nCONTENIDO DEL CURSO \n\nSeminario 1: CONFIAR EN MÍ – Heridas tempranas y filtros internos\nSeminario 2: CONFIAR EN EL CLIENTE – La inteligencia en los mecanismos de afrontamiento\nSeminario 3: CONFIAR EN LA INTELIGENCIA – Más allá de «nosotros»
URL:https://sabiduriainherente.es/event/cultivando-una-escucha-integral-e-integrada-confiar-1-3/
LOCATION:ESPACIO SABIDURÍA INHERENTE\, Av. de la Reina Sofía\, 27\, local 1\, Leganés\, Madrid\, 28919\, Spain
ATTACH;FMTTYPE=image/png:https://sabiduriainherente.es/wp-content/uploads/2025/07/escucha-CONFIAR2026-instag-acortado.png
ORGANIZER;CN="Elixabete Zubizarreta":MAILTO:contacto@espacioyeonriji.com
END:VEVENT
BEGIN:VEVENT
DTSTART;TZID=Europe/Paris:20260529T090000
DTEND;TZID=Europe/Paris:20260531T140000
DTSTAMP:20260421T201803
CREATED:20250714T180915Z
LAST-MODIFIED:20250714T180915Z
UID:1464-1780045200-1780236000@sabiduriainherente.es
SUMMARY:De la BIOMECÁNICA  a la BIODINÁMICA\, ed 2026
DESCRIPTION:  \nEn  este curso\, exploraremos la transición del concepto biomecánico de los primeros años de Sutherland al concepto Biodinámico desarrollado en sus últimos años de práctica clínica\, y amplificado por alguno de sus discípulos como Rollin Becker y otros. \nAprenderemos las actitudes de Presencia para el encuentro en el campo relacional terapeuta-paciente\, que permiten profundizar en ritmos lentos (marea media y marea larga) y sentir los cambios (en lugar de intentar «provocarlos»). (ver más)
URL:https://sabiduriainherente.es/event/de-la-biomecanica-a-la-biodinamica-ed-2026/
LOCATION:ESPACIO SABIDURÍA INHERENTE\, Av. de la Reina Sofía\, 27\, local 1\, Leganés\, Madrid\, 28919\, Spain
ATTACH;FMTTYPE=image/jpeg:https://sabiduriainherente.es/wp-content/uploads/2023/04/embarcadero-BM-BD-2023.jpg
ORGANIZER;CN="Javier Rodriguez Diaz":MAILTO:confiaenlamarea@gmail.com
END:VEVENT
BEGIN:VEVENT
DTSTART;TZID=Europe/Paris:20260612T160000
DTEND;TZID=Europe/Paris:20260614T173000
DTSTAMP:20260421T201803
CREATED:20250714T184533Z
LAST-MODIFIED:20260218T172908Z
UID:1486-1781280000-1781458200@sabiduriainherente.es
SUMMARY:Cultivando una Escucha Integral e Integrada: CONFIAR (2/3)
DESCRIPTION:El objetivo de este curso es el de capacitar a los participantes en el desarrollo de la confianza más allá del saber\, permitiendo así el despliegue del proceso alineado con la Inteligencia y la Salud. \nSe explorará y profundizará en las distintas capas y niveles de lo que significa confiar\, pudiendo soltar la limitación del conocimiento y para abrirse a la Sabiduría. La principal herramienta a desarrollar es la propia consciencia y la alineación con la Inteligencia que permite confiar en el proceso que se está dando y desplegando. \nEn cada uno de los seminarios se profundizará en un aspecto distinto\, pero manteniendo una clara visión de construcción y profundización del proceso de confiar. \nEs un curso eminentemente práctico y se desarrollará a través de meditación\, de trabajo y escucha corporal en camilla\, de trabajar la comunicación contemplativa\, y del compartir y escucha verbal en el grupo. \n (ver más) \nCONTENIDO DEL CURSO \n\nSeminario 1: CONFIAR EN MÍ – Heridas tempranas y filtros internos\nSeminario 2: CONFIAR EN EL CLIENTE – La inteligencia en los mecanismos de afrontamiento\nSeminario 3: CONFIAR EN LA INTELIGENCIA – Más allá de «nosotros»
URL:https://sabiduriainherente.es/event/cultivando-una-escucha-integral-e-integrada-confiar-2-3/
LOCATION:ESPACIO SABIDURÍA INHERENTE\, Av. de la Reina Sofía\, 27\, local 1\, Leganés\, Madrid\, 28919\, Spain
ATTACH;FMTTYPE=image/png:https://sabiduriainherente.es/wp-content/uploads/2025/07/escucha-CONFIAR2026-instag-acortado.png
ORGANIZER;CN="Elixabete Zubizarreta":MAILTO:contacto@espacioyeonriji.com
END:VEVENT
BEGIN:VEVENT
DTSTART;TZID=Europe/Paris:20260619T090000
DTEND;TZID=Europe/Paris:20260621T140000
DTSTAMP:20260421T201803
CREATED:20250714T180407Z
LAST-MODIFIED:20250714T180407Z
UID:1446-1781859600-1782050400@sabiduriainherente.es
SUMMARY:BCS (5ª ed.2025/26)-Confía en la Marea. Sem. 10 - Resonancia Craneopélvica
DESCRIPTION:FORMACIÓN DE BIODINÁMICA CRANEOSACRAL \nDestinado a cualquier persona que quiera entrar y profundizar en la comprensión y estudio de la salud\, desde la perspectiva de la terapia craneosacral biodinámica. (ver más) \nHabilidades clave para este seminario: \nReconocer los huesos\, cómo se sienten y expresan movilidad saludable Reconocer como la salud en las membranas de tensión recíproca afectan los huesos de la línea media Percibir patrones en el cuerpo a través de la resonancia craneopélvica Reconocer como la hoz del cerebro y la tienda del cerebelo son estructuras clave para la movilidad saludable de los huesos de la bóveda Aprender a escuchar al tubo dural como la conexión central entre la pelvis y el cráneo \n 
URL:https://sabiduriainherente.es/event/bcs-5a-ed-2025-26-confia-en-la-marea-sem-10-resonancia-craneopelvica/
LOCATION:ESPACIO SABIDURÍA INHERENTE\, Av. de la Reina Sofía\, 27\, local 1\, Leganés\, Madrid\, 28919\, Spain
ATTACH;FMTTYPE=image/jpeg:https://sabiduriainherente.es/wp-content/uploads/2024/01/ola.jpeg
ORGANIZER;CN="Javier Rodriguez Diaz":MAILTO:confiaenlamarea@gmail.com
END:VEVENT
BEGIN:VEVENT
DTSTART;TZID=Europe/Paris:20260703T160000
DTEND;TZID=Europe/Paris:20260705T173000
DTSTAMP:20260421T201803
CREATED:20250714T184626Z
LAST-MODIFIED:20260218T172842Z
UID:1488-1783094400-1783272600@sabiduriainherente.es
SUMMARY:Cultivando una Escucha Integral e Integrada: CONFIAR (3/3)
DESCRIPTION:El objetivo de este curso es el de capacitar a los participantes en el desarrollo de la confianza más allá del saber\, permitiendo así el despliegue del proceso alineado con la Inteligencia y la Salud. \nSe explorará y profundizará en las distintas capas y niveles de lo que significa confiar\, pudiendo soltar la limitación del conocimiento y para abrirse a la Sabiduría. La principal herramienta a desarrollar es la propia consciencia y la alineación con la Inteligencia que permite confiar en el proceso que se está dando y desplegando. \nEn cada uno de los seminarios se profundizará en un aspecto distinto\, pero manteniendo una clara visión de construcción y profundización del proceso de confiar. \nEs un curso eminentemente práctico y se desarrollará a través de meditación\, de trabajo y escucha corporal en camilla\, de trabajar la comunicación contemplativa\, y del compartir y escucha verbal en el grupo. \n (ver más) \nCONTENIDO DEL CURSO \n\nSeminario 1: CONFIAR EN MÍ – Heridas tempranas y filtros internos\nSeminario 2: CONFIAR EN EL CLIENTE – La inteligencia en los mecanismos de afrontamiento\nSeminario 3: CONFIAR EN LA INTELIGENCIA – Más allá de «nosotros»
URL:https://sabiduriainherente.es/event/cultivando-una-escucha-integral-e-integrada-confiar-3-3/
LOCATION:ESPACIO SABIDURÍA INHERENTE\, Av. de la Reina Sofía\, 27\, local 1\, Leganés\, Madrid\, 28919\, Spain
ATTACH;FMTTYPE=image/png:https://sabiduriainherente.es/wp-content/uploads/2025/07/escucha-CONFIAR2026-instag-acortado.png
ORGANIZER;CN="Elixabete Zubizarreta":MAILTO:contacto@espacioyeonriji.com
END:VEVENT
BEGIN:VEVENT
DTSTART;TZID=Europe/Paris:20260710T090000
DTEND;TZID=Europe/Paris:20260712T140000
DTSTAMP:20260421T201803
CREATED:20250714T180456Z
LAST-MODIFIED:20250714T180456Z
UID:1445-1783674000-1783864800@sabiduriainherente.es
SUMMARY:BCS (5ª ed.2025/26)-Confía en la Marea. Sem. 11 - Cara y ATM
DESCRIPTION:FORMACIÓN DE BIODINÁMICA CRANEOSACRAL \nDestinado a cualquier persona que quiera entrar y profundizar en la comprensión y estudio de la salud\, desde la perspectiva de la terapia craneosacral biodinámica. (ver más) \nDe qué trata el seminario: \nApreciar el poder del lugar que ocupa el rostro en el cuerpo y cómo su estado de salud tiene efectos globales. Mirando cómo la cara se encuentra con el proceso de nacimiento y qué tipo de patrones lo tipifican. Comprensión Los vectores de fuerza que han creado estos patrones a partir de su conocimiento de los movimientos que el bebé hace en el canal de nacimiento. Cómo trabajar con los patrones específicos que comúnmente surgen con el complejo facial: vertical y horizontal\, base craneal y cara\, línea media de la cara\, sutural. Tratar con patrones somato-emocionales específicos que surgen alrededor de la mandíbula y la garganta. Aprender a tener confianza y sensibilidad para tratar la cara.
URL:https://sabiduriainherente.es/event/bcs-5a-ed-2025-26-confia-en-la-marea-sem-11-cara-y-atm/
LOCATION:ESPACIO SABIDURÍA INHERENTE\, Av. de la Reina Sofía\, 27\, local 1\, Leganés\, Madrid\, 28919\, Spain
ATTACH;FMTTYPE=image/jpeg:https://sabiduriainherente.es/wp-content/uploads/2024/01/ola.jpeg
ORGANIZER;CN="Javier Rodriguez Diaz":MAILTO:confiaenlamarea@gmail.com
END:VEVENT
BEGIN:VEVENT
DTSTART;TZID=Europe/Madrid:20260717T190000
DTEND;TZID=Europe/Madrid:20260719T140000
DTSTAMP:20260421T201803
CREATED:20260218T171841Z
LAST-MODIFIED:20260417T171738Z
UID:1719-1784314800-1784469600@sabiduriainherente.es
SUMMARY:Curso de VISIÓN AURAL - Curso intensivo N 1 y 2
DESCRIPTION:Curso enfocada a abrir estados de Percepción Sensorial Acrecentada. \nLa dualidad Tonal–Nagual está presente en toda experiencia perceptiva.\nMiramos al tonal\, pero no vemos al nagual del mundo. \nCuando el “yo” se impone como centro absoluto\, la percepción se empobrece y el Nagual queda excluido.\nLa Visión Aural propone lo contrario: ordenar el Tonal para que el Ver sea posible. \nAprender a ver el Aura no es sugestión ni imaginación.\nEs entrenamiento perceptivo\, práctica sostenida y comprensión profunda. \nFormación basada en los fundamentos desarrollados por el\nDr. Cristian Salado durante más de 30 años de enseñanza. \nDirigido a: Terapeutas · Fisioterapeutas · Profesionales de la salud y cualquier persona interesada en la percepción energética aplicada
URL:https://sabiduriainherente.es/event/curso-de-vision-aural-4/
LOCATION:ESPACIO SABIDURÍA INHERENTE\, Av. de la Reina Sofía\, 27\, local 1\, Leganés\, Madrid\, 28919\, Spain
ATTACH;FMTTYPE=image/png:https://sabiduriainherente.es/wp-content/uploads/2026/02/Captura-de-pantalla-2026-02-18-a-las-18.08.53.png
END:VEVENT
BEGIN:VEVENT
DTSTART;TZID=Europe/Madrid:20260904T190000
DTEND;TZID=Europe/Madrid:20260906T140000
DTSTAMP:20260421T201803
CREATED:20260218T171755Z
LAST-MODIFIED:20260218T171755Z
UID:1718-1788548400-1788703200@sabiduriainherente.es
SUMMARY:Curso de VISIÓN AURAL
DESCRIPTION:Curso enfocada a abrir estados de Percepción Sensorial Acrecentada. \nLa dualidad Tonal–Nagual está presente en toda experiencia perceptiva.\nMiramos al tonal\, pero no vemos al nagual del mundo. \nCuando el “yo” se impone como centro absoluto\, la percepción se empobrece y el Nagual queda excluido.\nLa Visión Aural propone lo contrario: ordenar el Tonal para que el Ver sea posible. \nAprender a ver el Aura no es sugestión ni imaginación.\nEs entrenamiento perceptivo\, práctica sostenida y comprensión profunda. \nFormación basada en los fundamentos desarrollados por el\nDr. Cristian Salado durante más de 30 años de enseñanza. \nDirigido a: Terapeutas · Fisioterapeutas · Profesionales de la salud y cualquier persona interesada en la percepción energética aplicada
URL:https://sabiduriainherente.es/event/curso-de-vision-aural-3/
LOCATION:ESPACIO SABIDURÍA INHERENTE\, Av. de la Reina Sofía\, 27\, local 1\, Leganés\, Madrid\, 28919\, Spain
ATTACH;FMTTYPE=image/png:https://sabiduriainherente.es/wp-content/uploads/2026/02/Captura-de-pantalla-2026-02-18-a-las-18.08.53.png
END:VEVENT
BEGIN:VEVENT
DTSTART;TZID=Europe/Paris:20260925T090000
DTEND;TZID=Europe/Paris:20260927T140000
DTSTAMP:20260421T201803
CREATED:20250714T180615Z
LAST-MODIFIED:20250714T180615Z
UID:1444-1790326800-1790517600@sabiduriainherente.es
SUMMARY:BCS (5ª ed.2025/26)-Confía en la Marea. Sem. 12 - Plan de Tratamiento Inherente
DESCRIPTION:FORMACIÓN DE BIODINÁMICA CRANEOSACRAL \nDestinado a cualquier persona que quiera entrar y profundizar en la comprensión y estudio de la salud\, desde la perspectiva de la terapia craneosacral biodinámica. (ver más) \nDe qué trata el seminario: \nProfundizar en el desarrollo de una sesión de terapia craneosacral biodinámica Comprensión de todo el proceso de trabajo biodinámico con todas sus facetas Integración en la teoría y la práctica Aclarar y revisar conceptos
URL:https://sabiduriainherente.es/event/bcs-5a-ed-2025-26-confia-en-la-marea-sem-12-plan-de-tratamiento-inherente/
LOCATION:ESPACIO SABIDURÍA INHERENTE\, Av. de la Reina Sofía\, 27\, local 1\, Leganés\, Madrid\, 28919\, Spain
ATTACH;FMTTYPE=image/jpeg:https://sabiduriainherente.es/wp-content/uploads/2024/01/ola.jpeg
ORGANIZER;CN="Javier Rodriguez Diaz":MAILTO:confiaenlamarea@gmail.com
END:VEVENT
END:VCALENDAR