BEGIN:VCALENDAR
VERSION:2.0
PRODID:-//Sabiduría Inherente - ECPv6.15.20//NONSGML v1.0//EN
CALSCALE:GREGORIAN
METHOD:PUBLISH
X-ORIGINAL-URL:https://sabiduriainherente.es
X-WR-CALDESC:Eventos para Sabiduría Inherente
REFRESH-INTERVAL;VALUE=DURATION:PT1H
X-Robots-Tag:noindex
X-PUBLISHED-TTL:PT1H
BEGIN:VTIMEZONE
TZID:Europe/Paris
BEGIN:DAYLIGHT
TZOFFSETFROM:+0100
TZOFFSETTO:+0200
TZNAME:CEST
DTSTART:20250330T010000
END:DAYLIGHT
BEGIN:STANDARD
TZOFFSETFROM:+0200
TZOFFSETTO:+0100
TZNAME:CET
DTSTART:20251026T010000
END:STANDARD
BEGIN:DAYLIGHT
TZOFFSETFROM:+0100
TZOFFSETTO:+0200
TZNAME:CEST
DTSTART:20260329T010000
END:DAYLIGHT
BEGIN:STANDARD
TZOFFSETFROM:+0200
TZOFFSETTO:+0100
TZNAME:CET
DTSTART:20261025T010000
END:STANDARD
BEGIN:DAYLIGHT
TZOFFSETFROM:+0100
TZOFFSETTO:+0200
TZNAME:CEST
DTSTART:20270328T010000
END:DAYLIGHT
BEGIN:STANDARD
TZOFFSETFROM:+0200
TZOFFSETTO:+0100
TZNAME:CET
DTSTART:20271031T010000
END:STANDARD
END:VTIMEZONE
BEGIN:VEVENT
DTSTART;TZID=Europe/Paris:20260508T160000
DTEND;TZID=Europe/Paris:20260510T173000
DTSTAMP:20260421T185546
CREATED:20250714T185442Z
LAST-MODIFIED:20260218T172716Z
UID:1495-1778256000-1778434200@sabiduriainherente.es
SUMMARY:Principios Masculino y Femenino en la Escucha (3/3)
DESCRIPTION:El objetivo de este curso es el de capacitar a los participantes en el desarrollo y entrenamiento de los principios femenino y masculinos que les permitirán llevar a cabo una escucha profunda e integral. La principal herramienta a desarrollar es la propia coherencia y la capacidad de sintonización. Es por ello que a lo largo del curso se explorará tanto el estado y el trabajo interno\, como la escucha y sintonización con el otro. \nEn cada uno de los seminarios se profundizará en un aspecto distinto\, pero manteniendo una clara visión de construcción e integración global con el objetivo de restaurar la unidad y coherencia final\, que nos permitirá esa escucha profunda y auténtica del Ser. \nEs un curso eminentemente práctico y se desarrollará a través de meditación\, de trabajo y escucha corporal en camilla\, de trabajar la comunicación contemplativa\, y del compartir y escucha verbal en el grupo. \n (ver más) \nCONTENIDO DEL CURSO \n\nSeminario 1: PRINCIPIO FEMENINO – Recibir [Espacio]\nSeminario 2: PRINCIPIO MASCULINO – Sintonizar [Estructura]\nSeminario 3: INTEGRAR AMBOS PRINCIPIOS – Resonar [Energía]
URL:https://sabiduriainherente.es/event/principios-masculino-y-femenino-en-la-escucha-3-3/
LOCATION:ESPACIO SABIDURÍA INHERENTE\, Av. de la Reina Sofía\, 27\, local 1\, Leganés\, Madrid\, 28919\, Spain
ATTACH;FMTTYPE=image/png:https://sabiduriainherente.es/wp-content/uploads/2025/07/escucha-PP-Femenino-Masculino2026-instag-acortado.png
ORGANIZER;CN="Elixabete Zubizarreta":MAILTO:contacto@espacioyeonriji.com
END:VEVENT
END:VCALENDAR