BEGIN:VCALENDAR
VERSION:2.0
PRODID:-//Sabiduría Inherente - ECPv6.15.20//NONSGML v1.0//EN
CALSCALE:GREGORIAN
METHOD:PUBLISH
X-ORIGINAL-URL:https://sabiduriainherente.es
X-WR-CALDESC:Eventos para Sabiduría Inherente
REFRESH-INTERVAL;VALUE=DURATION:PT1H
X-Robots-Tag:noindex
X-PUBLISHED-TTL:PT1H
BEGIN:VTIMEZONE
TZID:Europe/Paris
BEGIN:DAYLIGHT
TZOFFSETFROM:+0100
TZOFFSETTO:+0200
TZNAME:CEST
DTSTART:20250330T010000
END:DAYLIGHT
BEGIN:STANDARD
TZOFFSETFROM:+0200
TZOFFSETTO:+0100
TZNAME:CET
DTSTART:20251026T010000
END:STANDARD
BEGIN:DAYLIGHT
TZOFFSETFROM:+0100
TZOFFSETTO:+0200
TZNAME:CEST
DTSTART:20260329T010000
END:DAYLIGHT
BEGIN:STANDARD
TZOFFSETFROM:+0200
TZOFFSETTO:+0100
TZNAME:CET
DTSTART:20261025T010000
END:STANDARD
BEGIN:DAYLIGHT
TZOFFSETFROM:+0100
TZOFFSETTO:+0200
TZNAME:CEST
DTSTART:20270328T010000
END:DAYLIGHT
BEGIN:STANDARD
TZOFFSETFROM:+0200
TZOFFSETTO:+0100
TZNAME:CET
DTSTART:20271031T010000
END:STANDARD
END:VTIMEZONE
BEGIN:VEVENT
DTSTART;TZID=Europe/Paris:20260109T090000
DTEND;TZID=Europe/Paris:20260111T140000
DTSTAMP:20260425T140508
CREATED:20250714T175828Z
LAST-MODIFIED:20250714T175828Z
UID:1452-1767949200-1768140000@sabiduriainherente.es
SUMMARY:BCS (5ª ed.2025/26)-Confía en la Marea. Sem. 5 - Focusing\, Trauma y Disociación
DESCRIPTION:FORMACIÓN DE BIODINÁMICA CRANEOSACRAL \nDestinado a cualquier persona que quiera entrar y profundizar en la comprensión y estudio de la salud\, desde la perspectiva de la terapia craneosacral biodinámica. (ver más) \nFocusing: teoría y práctica Teoría Polivagal de Porges Trauma – Disociación Los recursos Aprendizaje corporal Reconocimiento y tratamiento de los afectos traumáticos Trauma\, salud y tacto Lenguaje para el contacto – encontrar las palabras para lo que hacemos Profundizar en técnicas de facilitación de recursos Presencia\, entender ritmo y contención del proceso El profesional empático: enmarcar la fisiología de la emoción y el dolor\, Desarrollo de la presencia y la sencillez en la sesión de tratamiento La conexión a tierra Límites en la relación terapéutica
URL:https://sabiduriainherente.es/event/bcs-5a-ed-2025-26-confia-en-la-marea-sem-5-focusing-trauma-y-disociacion/
LOCATION:ESPACIO SABIDURÍA INHERENTE\, Av. de la Reina Sofía\, 27\, local 1\, Leganés\, Madrid\, 28919\, Spain
ATTACH;FMTTYPE=image/jpeg:https://sabiduriainherente.es/wp-content/uploads/2024/01/ola.jpeg
ORGANIZER;CN="Javier Rodriguez Diaz":MAILTO:confiaenlamarea@gmail.com
END:VEVENT
END:VCALENDAR